BEGIN:VCALENDAR
VERSION:2.0
PRODID:-//Vero Rubio - ECPv6.15.20//NONSGML v1.0//EN
CALSCALE:GREGORIAN
METHOD:PUBLISH
X-ORIGINAL-URL:https://verorrubio.com
X-WR-CALDESC:Eventos para Vero Rubio
REFRESH-INTERVAL;VALUE=DURATION:PT1H
X-Robots-Tag:noindex
X-PUBLISHED-TTL:PT1H
BEGIN:VTIMEZONE
TZID:UTC
BEGIN:STANDARD
TZOFFSETFROM:+0000
TZOFFSETTO:+0000
TZNAME:UTC
DTSTART:20240101T000000
END:STANDARD
END:VTIMEZONE
BEGIN:VTIMEZONE
TZID:Europe/Paris
BEGIN:DAYLIGHT
TZOFFSETFROM:+0100
TZOFFSETTO:+0200
TZNAME:CEST
DTSTART:20240331T010000
END:DAYLIGHT
BEGIN:STANDARD
TZOFFSETFROM:+0200
TZOFFSETTO:+0100
TZNAME:CET
DTSTART:20241027T010000
END:STANDARD
BEGIN:DAYLIGHT
TZOFFSETFROM:+0100
TZOFFSETTO:+0200
TZNAME:CEST
DTSTART:20250330T010000
END:DAYLIGHT
BEGIN:STANDARD
TZOFFSETFROM:+0200
TZOFFSETTO:+0100
TZNAME:CET
DTSTART:20251026T010000
END:STANDARD
BEGIN:DAYLIGHT
TZOFFSETFROM:+0100
TZOFFSETTO:+0200
TZNAME:CEST
DTSTART:20260329T010000
END:DAYLIGHT
BEGIN:STANDARD
TZOFFSETFROM:+0200
TZOFFSETTO:+0100
TZNAME:CET
DTSTART:20261025T010000
END:STANDARD
END:VTIMEZONE
BEGIN:VEVENT
DTSTART;TZID=UTC:20251027T190000
DTEND;TZID=UTC:20251027T190000
DTSTAMP:20260420T180111
CREATED:20250813T123130Z
LAST-MODIFIED:20251027T101928Z
UID:3162-1761591600-1761591600@verorrubio.com
SUMMARY:Asociación Cultural Gesto - Gijón
DESCRIPTION:
URL:https://verorrubio.com/event/asociacion-cultural-gesto-gijon/
LOCATION:Asociación Cultural Gesto\, C. Francisco Tomás y Valiente\, 1\, Centro\, 33201 Gijón\, Asturias\, Gijón\, Asturias\, 33201\, Spain
CATEGORIES:concierto
ATTACH;FMTTYPE=image/png:https://verorrubio.com/wp-content/uploads/2025/07/imagen-principal.png
END:VEVENT
BEGIN:VEVENT
DTSTART;TZID=UTC:20251011T213000
DTEND;TZID=UTC:20251011T213000
DTSTAMP:20260420T180111
CREATED:20250813T122503Z
LAST-MODIFIED:20250916T065745Z
UID:3159-1760218200-1760218200@verorrubio.com
SUMMARY:Caja de Músicos - Gijón
DESCRIPTION:
URL:https://verorrubio.com/event/caja-de-musicos-gijon/
LOCATION:Asociación Cultural La Caja de Músicos\, C. Buen Suceso\, 7\, Centro\, 33206 Gijón\, Asturias\, Gijón\, Asturias\, 33206\, Spain
CATEGORIES:concierto
ATTACH;FMTTYPE=image/jpeg:https://verorrubio.com/wp-content/uploads/2025/08/PHOTO-2025-09-15-15-29-54.jpg
END:VEVENT
BEGIN:VEVENT
DTSTART;TZID=Europe/Paris:20251004T180000
DTEND;TZID=Europe/Paris:20251004T180000
DTSTAMP:20260420T180111
CREATED:20250813T122255Z
LAST-MODIFIED:20250926T102913Z
UID:3156-1759600800-1759600800@verorrubio.com
SUMMARY:La Pernía - Palencia
DESCRIPTION:
URL:https://verorrubio.com/event/la-pernia-palencia/
LOCATION:Iglesia de Santa Ana\, C. Piedrasluengas\, 2\, 34849 Piedrasluengas\, Palencia\, Piedrasluengas\, Palencia\, 34849\, Spain
CATEGORIES:concierto
ATTACH;FMTTYPE=image/jpeg:https://verorrubio.com/wp-content/uploads/2025/08/La-Pernia.jpg
END:VEVENT
BEGIN:VEVENT
DTSTART;TZID=UTC:20250803T123000
DTEND;TZID=UTC:20250803T140000
DTSTAMP:20260420T180111
CREATED:20250801T064326Z
LAST-MODIFIED:20250905T114109Z
UID:2452-1754224200-1754229600@verorrubio.com
SUMMARY:CICADA – Vegadeo
DESCRIPTION:
URL:https://verorrubio.com/event/cicada-vegadeo/
LOCATION:Sala Exposiciones “Luis Fega”\, Casa Cultura\, Vegadeo\, Asturias\, Spain
CATEGORIES:concierto
ATTACH;FMTTYPE=image/jpeg:https://verorrubio.com/wp-content/uploads/2025/08/cartel-1.jpg
END:VEVENT
BEGIN:VEVENT
DTSTART;TZID=UTC:20250628T190000
DTEND;TZID=UTC:20250628T210000
DTSTAMP:20260420T180111
CREATED:20250820T100045Z
LAST-MODIFIED:20250820T103842Z
UID:3455-1751137200-1751144400@verorrubio.com
SUMMARY:La Llocura - Mieres
DESCRIPTION:
URL:https://verorrubio.com/event/la-llocura-mieres/
LOCATION:Asturias
CATEGORIES:concierto
END:VEVENT
BEGIN:VEVENT
DTSTART;TZID=UTC:20250619T200000
DTEND;TZID=UTC:20250619T210000
DTSTAMP:20260420T180111
CREATED:20250801T074626Z
LAST-MODIFIED:20250820T115651Z
UID:2508-1750363200-1750366800@verorrubio.com
SUMMARY:The Burlesque Club\, Micro abierto El Berru - Oviedo
DESCRIPTION:
URL:https://verorrubio.com/event/the-burlesque-club-micro-abierto-el-berru-oviedo/
LOCATION:The Burlesque Club\, Oviedo\, Spain
CATEGORIES:concierto
END:VEVENT
BEGIN:VEVENT
DTSTART;TZID=UTC:20250522T213000
DTEND;TZID=UTC:20250522T230000
DTSTAMP:20260420T180111
CREATED:20250820T100250Z
LAST-MODIFIED:20250826T091006Z
UID:3457-1747949400-1747954800@verorrubio.com
SUMMARY:Taberna de Narciso - Teverga
DESCRIPTION:
URL:https://verorrubio.com/event/taberna-de-narciso-teverga/
LOCATION:Asturias
CATEGORIES:concierto
END:VEVENT
END:VCALENDAR