BEGIN:VCALENDAR
VERSION:2.0
PRODID:-//Vero Rubio - ECPv6.15.20//NONSGML v1.0//EN
CALSCALE:GREGORIAN
METHOD:PUBLISH
X-WR-CALNAME:Vero Rubio
X-ORIGINAL-URL:https://verorrubio.com
X-WR-CALDESC:Eventos para Vero Rubio
REFRESH-INTERVAL;VALUE=DURATION:PT1H
X-Robots-Tag:noindex
X-PUBLISHED-TTL:PT1H
BEGIN:VTIMEZONE
TZID:UTC
BEGIN:STANDARD
TZOFFSETFROM:+0000
TZOFFSETTO:+0000
TZNAME:UTC
DTSTART:20240101T000000
END:STANDARD
END:VTIMEZONE
BEGIN:VEVENT
DTSTART;TZID=UTC:20251114T193000
DTEND;TZID=UTC:20251114T193000
DTSTAMP:20260421T043124
CREATED:20251031T110837Z
LAST-MODIFIED:20251031T130546Z
UID:4179-1763148600-1763148600@verorrubio.com
SUMMARY:Xosé Ambás\, Pepín de Muñalén y Vero Rubio
DESCRIPTION:CICLO FOLK DE CÁMARA Ígor Medio
URL:https://verorrubio.com/event/4179/
LOCATION:Museo Casa Natal de Jovellanos\, Plazuela de Jovellanos\, s/n\, Centro\, Gijón\, Asturias\, 33201\, Spain
ATTACH;FMTTYPE=application/pdf:https://verorrubio.com/wp-content/uploads/2025/10/cartelfolkdecamaradefinitivo2-1.pdf
END:VEVENT
BEGIN:VEVENT
DTSTART;TZID=UTC:20251201T193000
DTEND;TZID=UTC:20251201T193000
DTSTAMP:20260421T043124
CREATED:20251118T105247Z
LAST-MODIFIED:20251118T105247Z
UID:4196-1764617400-1764617400@verorrubio.com
SUMMARY:Brassica Trío
DESCRIPTION:Universidad Popular. MÚSICA GUIADA. Conciertos narrados
URL:https://verorrubio.com/event/brassica-trio/
LOCATION:Centro Municipal Integrado Pumarin Gijón Sur\, c/ Ramón Areces\, 7\, Gijón\, Asturias\, 33210\, Spain
ATTACH;FMTTYPE=image/jpeg:https://verorrubio.com/wp-content/uploads/2025/11/Tarjeton-Musica-Guiada_Portada_page-0001.jpg
END:VEVENT
BEGIN:VEVENT
DTSTART;TZID=UTC:20260109T200000
DTEND;TZID=UTC:20260109T200000
DTSTAMP:20260421T043124
CREATED:20260107T205544Z
LAST-MODIFIED:20260107T205544Z
UID:4219-1767988800-1767988800@verorrubio.com
SUMMARY:Arca de Mozart
DESCRIPTION:Esa ye la de…
URL:https://verorrubio.com/event/arca-de-mozart/
LOCATION:Círculo Liceo de Luarca (Casino)\, c/ Álvaro de Albornoz\, 8\, Luarca\, Asturias\, Spain
ATTACH;FMTTYPE=image/jpeg:https://verorrubio.com/wp-content/uploads/2026/01/PHOTO-2026-01-07-14-37-32.jpg
END:VEVENT
BEGIN:VEVENT
DTSTART;TZID=UTC:20260116T200000
DTEND;TZID=UTC:20260116T200000
DTSTAMP:20260421T043124
CREATED:20260112T095828Z
LAST-MODIFIED:20260113T193612Z
UID:4225-1768593600-1768593600@verorrubio.com
SUMMARY:Liuba María Hevia
DESCRIPTION:Tantas vidas
URL:https://verorrubio.com/event/liuba-maria-hevia/
LOCATION:Mieres Centro Cultural\, c/ Jerónimo Ibran\, Mieres\, Asturias\, Spain
ATTACH;FMTTYPE=image/jpeg:https://verorrubio.com/wp-content/uploads/2026/01/Liuba-Maria.jpg
END:VEVENT
BEGIN:VEVENT
DTSTART;TZID=UTC:20260124T200000
DTEND;TZID=UTC:20260124T200000
DTSTAMP:20260421T043124
CREATED:20260107T124232Z
LAST-MODIFIED:20260107T125240Z
UID:4202-1769284800-1769284800@verorrubio.com
SUMMARY:Vero Rubio en acústico
DESCRIPTION:Residencia literaria y artística Musa Cafeína
URL:https://verorrubio.com/event/vero-rubio-en-acustico/
LOCATION:Residencia Musa Cafeína\, Camín de la Caleya\, 274\, Quintueles\, Asturias\, Spain
ATTACH;FMTTYPE=image/jpeg:https://verorrubio.com/wp-content/uploads/2026/01/5a9abc5d-728b-4209-9dff-fd45904f8299.jpg
END:VEVENT
BEGIN:VEVENT
DTSTART;TZID=UTC:20260131T193000
DTEND;TZID=UTC:20260131T193000
DTSTAMP:20260421T043124
CREATED:20260107T125937Z
LAST-MODIFIED:20260107T125937Z
UID:4211-1769887800-1769887800@verorrubio.com
SUMMARY:Buir
DESCRIPTION:Ambás\, Muñalén y Rubio
URL:https://verorrubio.com/event/buir/
LOCATION:Auditorio de Grado\, Grado\, Asturias\, Spain
ATTACH;FMTTYPE=image/jpeg:https://verorrubio.com/wp-content/uploads/2026/01/BUIR-pequena.jpg
END:VEVENT
BEGIN:VEVENT
DTSTART;TZID=UTC:20260305T190000
DTEND;TZID=UTC:20260305T190000
DTSTAMP:20260421T043124
CREATED:20260208T090429Z
LAST-MODIFIED:20260209T115627Z
UID:4235-1772737200-1772737200@verorrubio.com
SUMMARY:Conferencia: "Del chigre al auditorio"
DESCRIPTION:La estrecha relación entre la música popular y la música académica a lo largo de la historia.
URL:https://verorrubio.com/event/conferencia/
LOCATION:Biblioteca Pública Jovellanos\, c/ Jovellanos\, 23\, Centro\, Gijón\, 33206
ATTACH;FMTTYPE=image/png:https://verorrubio.com/wp-content/uploads/2025/07/imagen-principal.png
END:VEVENT
BEGIN:VEVENT
DTSTART;TZID=UTC:20260307T123000
DTEND;TZID=UTC:20260307T123000
DTSTAMP:20260421T043124
CREATED:20260208T085804Z
LAST-MODIFIED:20260208T085901Z
UID:4231-1772886600-1772886600@verorrubio.com
SUMMARY:Vero Rubio
DESCRIPTION:Día de la muyer
URL:https://verorrubio.com/event/vero-rubio/
LOCATION:Besullo\, Besullo\, Cangas del Narcea
ATTACH;FMTTYPE=image/png:https://verorrubio.com/wp-content/uploads/2025/07/imagen-principal.png
END:VEVENT
BEGIN:VEVENT
DTSTART;TZID=UTC:20260309T120000
DTEND;TZID=UTC:20260309T120000
DTSTAMP:20260421T043124
CREATED:20260209T120014Z
LAST-MODIFIED:20260209T120115Z
UID:4244-1773057600-1773057600@verorrubio.com
SUMMARY:Charla
DESCRIPTION:La música\, los músicos y la vida.
URL:https://verorrubio.com/event/charla/
LOCATION:IES Carlos Bousoño\, Boal\, Asturias\, 33720\, Spain
ATTACH;FMTTYPE=image/png:https://verorrubio.com/wp-content/uploads/2025/07/imagen-principal.png
END:VEVENT
BEGIN:VEVENT
DTSTART;TZID=UTC:20260417T200000
DTEND;TZID=UTC:20260417T200000
DTSTAMP:20260421T043124
CREATED:20260412T190620Z
LAST-MODIFIED:20260412T190620Z
UID:4346-1776456000-1776456000@verorrubio.com
SUMMARY:Improviso Unidad Movil
DESCRIPTION:Improvisación fresca y divertida
URL:https://verorrubio.com/event/improviso-unidad-movil/
LOCATION:Paspartú\, c/ Julio 21\, Gijón\, Spain
CATEGORIES:concierto
ATTACH;FMTTYPE=image/jpeg:https://verorrubio.com/wp-content/uploads/2026/04/PHOTO-2026-04-06-20-23-40.jpg
END:VEVENT
BEGIN:VEVENT
DTSTART;TZID=UTC:20260510T200000
DTEND;TZID=UTC:20260510T200000
DTSTAMP:20260421T043124
CREATED:20260209T120524Z
LAST-MODIFIED:20260209T120635Z
UID:4248-1778443200-1778443200@verorrubio.com
SUMMARY:BUIR
DESCRIPTION:Xosé Ambás\, Pepín de Muñalén y Vero Rubio
URL:https://verorrubio.com/event/buir-2/
LOCATION:Teatro Vital Aza\, c/ Corporaciones de Lena\, 10\, Pola de Lena\, Asturias\, 33630\, Spain
ATTACH;FMTTYPE=image/jpeg:https://verorrubio.com/wp-content/uploads/2026/01/BUIR-pequena.jpg
END:VEVENT
BEGIN:VEVENT
DTSTART;TZID=UTC:20260516T120000
DTEND;TZID=UTC:20260516T120000
DTSTAMP:20260421T043124
CREATED:20260209T121738Z
LAST-MODIFIED:20260209T121738Z
UID:4262-1778932800-1778932800@verorrubio.com
SUMMARY:Vero Rubio
DESCRIPTION:Evento privado.
URL:https://verorrubio.com/event/vero-rubio-2/
LOCATION:33394
ATTACH;FMTTYPE=image/png:https://verorrubio.com/wp-content/uploads/2025/07/imagen-principal.png
END:VEVENT
BEGIN:VEVENT
DTSTART;TZID=UTC:20260522T200000
DTEND;TZID=UTC:20260522T200000
DTSTAMP:20260421T043124
CREATED:20260209T120915Z
LAST-MODIFIED:20260209T120915Z
UID:4253-1779480000-1779480000@verorrubio.com
SUMMARY:BUIR
DESCRIPTION:Xosé Ambás\, Pepín de Muñalén y Vero Rubio
URL:https://verorrubio.com/event/buir-3/
LOCATION:Teatro Toreno\, c/ Mayor\, 53\, Cangas del Narcea\, Asturias\, 33800\, Spain
ATTACH;FMTTYPE=image/jpeg:https://verorrubio.com/wp-content/uploads/2026/01/BUIR-pequena.jpg
END:VEVENT
BEGIN:VEVENT
DTSTART;TZID=UTC:20260523T133000
DTEND;TZID=UTC:20260523T133000
DTSTAMP:20260421T043124
CREATED:20260412T191442Z
LAST-MODIFIED:20260412T191442Z
UID:4350-1779543000-1779543000@verorrubio.com
SUMMARY:Vero Rubio
DESCRIPTION:Sesión Vermú
URL:https://verorrubio.com/event/vero-rubio-3/
LOCATION:Carreño
CATEGORIES:concierto
ATTACH;FMTTYPE=image/png:https://verorrubio.com/wp-content/uploads/2025/07/imagen-principal.png
END:VEVENT
BEGIN:VEVENT
DTSTART;TZID=UTC:20260528T200000
DTEND;TZID=UTC:20260528T200000
DTSTAMP:20260421T043124
CREATED:20260412T191714Z
LAST-MODIFIED:20260412T191739Z
UID:4353-1779998400-1779998400@verorrubio.com
SUMMARY:BUIR
DESCRIPTION:Xosé Ambás\, Pepín de Muñalén y Vero Rubio
URL:https://verorrubio.com/event/buir-4/
LOCATION:Gijón
CATEGORIES:concierto
ATTACH;FMTTYPE=image/jpeg:https://verorrubio.com/wp-content/uploads/2026/01/BUIR-pequena.jpg
END:VEVENT
BEGIN:VEVENT
DTSTART;TZID=UTC:20260529T190000
DTEND;TZID=UTC:20260529T190000
DTSTAMP:20260421T043124
CREATED:20260209T121352Z
LAST-MODIFIED:20260209T121616Z
UID:4256-1780081200-1780081200@verorrubio.com
SUMMARY:BRASSICA TRÍO
DESCRIPTION:«Del chigre al auditorio». La música popular en la visión de los grandes clásicos. \n 
URL:https://verorrubio.com/event/brassica-trio-2/
LOCATION:Sala Loreto\, Cam. de Loreto\, Colunga\, Asturias\, 33320\, Spain
ATTACH;FMTTYPE=image/jpeg:https://verorrubio.com/wp-content/uploads/2026/02/BRASSICA-pequena.jpg
END:VEVENT
BEGIN:VEVENT
DTSTART;TZID=UTC:20260606T183000
DTEND;TZID=UTC:20260606T183000
DTSTAMP:20260421T043124
CREATED:20260412T193149Z
LAST-MODIFIED:20260412T194225Z
UID:4359-1780770600-1780770600@verorrubio.com
SUMMARY:Vero Rubio
DESCRIPTION:Música del disco «Vou»\, de la suite «Al son de la fame»… música para disfrutar del lugar en el que estamos.
URL:https://verorrubio.com/event/vero-rubio-4/
LOCATION:Jardín Botánico Atlántico de Gijón\, Avda. Jardín Botánico\, 2230\, Gijón\, 33394\, Spain
CATEGORIES:concierto
ATTACH;FMTTYPE=image/png:https://verorrubio.com/wp-content/uploads/2025/07/imagen-principal.png
END:VEVENT
BEGIN:VEVENT
DTSTART;TZID=UTC:20260627T190000
DTEND;TZID=UTC:20260627T190000
DTSTAMP:20260421T043124
CREATED:20260412T192446Z
LAST-MODIFIED:20260412T192446Z
UID:4356-1782586800-1782586800@verorrubio.com
SUMMARY:BUIR
DESCRIPTION:Xosé Ambás\, Pepín de Muñalén y Vero Rubio
URL:https://verorrubio.com/event/buir-5/
LOCATION:Corvera
CATEGORIES:concierto
ATTACH;FMTTYPE=image/jpeg:https://verorrubio.com/wp-content/uploads/2026/01/BUIR-pequena.jpg
END:VEVENT
BEGIN:VEVENT
DTSTART;VALUE=DATE:20260831
DTEND;VALUE=DATE:20260909
DTSTAMP:20260421T043124
CREATED:20260209T122008Z
LAST-MODIFIED:20260412T193509Z
UID:4264-1788134400-1788911999@verorrubio.com
SUMMARY:Residencia Artística
DESCRIPTION:
URL:https://verorrubio.com/event/residencia-artistica/
LOCATION:33394
ATTACH;FMTTYPE=image/png:https://verorrubio.com/wp-content/uploads/2025/07/imagen-principal.png
END:VEVENT
END:VCALENDAR