BEGIN:VCALENDAR
VERSION:2.0
PRODID:-//Vero Rubio - ECPv6.15.20//NONSGML v1.0//EN
CALSCALE:GREGORIAN
METHOD:PUBLISH
X-WR-CALNAME:Vero Rubio
X-ORIGINAL-URL:https://verorrubio.com
X-WR-CALDESC:Eventos para Vero Rubio
REFRESH-INTERVAL;VALUE=DURATION:PT1H
X-Robots-Tag:noindex
X-PUBLISHED-TTL:PT1H
BEGIN:VTIMEZONE
TZID:UTC
BEGIN:STANDARD
TZOFFSETFROM:+0000
TZOFFSETTO:+0000
TZNAME:UTC
DTSTART:20240101T000000
END:STANDARD
END:VTIMEZONE
BEGIN:VEVENT
DTSTART;TZID=UTC:20251027T190000
DTEND;TZID=UTC:20251027T190000
DTSTAMP:20260421T013828
CREATED:20250813T123130Z
LAST-MODIFIED:20251027T101928Z
UID:3162-1761591600-1761591600@verorrubio.com
SUMMARY:Asociación Cultural Gesto - Gijón
DESCRIPTION:
URL:https://verorrubio.com/event/asociacion-cultural-gesto-gijon/
LOCATION:Asociación Cultural Gesto\, C. Francisco Tomás y Valiente\, 1\, Centro\, 33201 Gijón\, Asturias\, Gijón\, Asturias\, 33201\, Spain
CATEGORIES:concierto
ATTACH;FMTTYPE=image/png:https://verorrubio.com/wp-content/uploads/2025/07/imagen-principal.png
END:VEVENT
END:VCALENDAR