BEGIN:VCALENDAR
VERSION:2.0
PRODID:-//Vero Rubio - ECPv6.15.20//NONSGML v1.0//EN
CALSCALE:GREGORIAN
METHOD:PUBLISH
X-ORIGINAL-URL:https://verorrubio.com
X-WR-CALDESC:Eventos para Vero Rubio
REFRESH-INTERVAL;VALUE=DURATION:PT1H
X-Robots-Tag:noindex
X-PUBLISHED-TTL:PT1H
BEGIN:VTIMEZONE
TZID:UTC
BEGIN:STANDARD
TZOFFSETFROM:+0000
TZOFFSETTO:+0000
TZNAME:UTC
DTSTART:20250101T000000
END:STANDARD
END:VTIMEZONE
BEGIN:VEVENT
DTSTART;TZID=UTC:20260307T123000
DTEND;TZID=UTC:20260307T123000
DTSTAMP:20260420T193320
CREATED:20260208T085804Z
LAST-MODIFIED:20260208T085901Z
UID:4231-1772886600-1772886600@verorrubio.com
SUMMARY:Vero Rubio
DESCRIPTION:Día de la muyer
URL:https://verorrubio.com/event/vero-rubio/
LOCATION:Besullo\, Besullo\, Cangas del Narcea
ATTACH;FMTTYPE=image/png:https://verorrubio.com/wp-content/uploads/2025/07/imagen-principal.png
END:VEVENT
END:VCALENDAR