BEGIN:VCALENDAR
VERSION:2.0
PRODID:-//Vero Rubio - ECPv6.15.20//NONSGML v1.0//EN
CALSCALE:GREGORIAN
METHOD:PUBLISH
X-WR-CALNAME:Vero Rubio
X-ORIGINAL-URL:https://verorrubio.com
X-WR-CALDESC:Eventos para Vero Rubio
REFRESH-INTERVAL;VALUE=DURATION:PT1H
X-Robots-Tag:noindex
X-PUBLISHED-TTL:PT1H
BEGIN:VTIMEZONE
TZID:UTC
BEGIN:STANDARD
TZOFFSETFROM:+0000
TZOFFSETTO:+0000
TZNAME:UTC
DTSTART:20250101T000000
END:STANDARD
END:VTIMEZONE
BEGIN:VEVENT
DTSTART;TZID=UTC:20260305T190000
DTEND;TZID=UTC:20260305T190000
DTSTAMP:20260420T193107
CREATED:20260208T090429Z
LAST-MODIFIED:20260209T115627Z
UID:4235-1772737200-1772737200@verorrubio.com
SUMMARY:Conferencia: "Del chigre al auditorio"
DESCRIPTION:La estrecha relación entre la música popular y la música académica a lo largo de la historia.
URL:https://verorrubio.com/event/conferencia/
LOCATION:Biblioteca Pública Jovellanos\, c/ Jovellanos\, 23\, Centro\, Gijón\, 33206
ATTACH;FMTTYPE=image/png:https://verorrubio.com/wp-content/uploads/2025/07/imagen-principal.png
END:VEVENT
END:VCALENDAR