BEGIN:VCALENDAR
VERSION:2.0
PRODID:-//Vero Rubio - ECPv6.15.20//NONSGML v1.0//EN
CALSCALE:GREGORIAN
METHOD:PUBLISH
X-ORIGINAL-URL:https://verorrubio.com
X-WR-CALDESC:Eventos para Vero Rubio
REFRESH-INTERVAL;VALUE=DURATION:PT1H
X-Robots-Tag:noindex
X-PUBLISHED-TTL:PT1H
BEGIN:VTIMEZONE
TZID:UTC
BEGIN:STANDARD
TZOFFSETFROM:+0000
TZOFFSETTO:+0000
TZNAME:UTC
DTSTART:20240101T000000
END:STANDARD
END:VTIMEZONE
BEGIN:VEVENT
DTSTART;TZID=UTC:20251201T193000
DTEND;TZID=UTC:20251201T193000
DTSTAMP:20260421T000004
CREATED:20251118T105247Z
LAST-MODIFIED:20251118T105247Z
UID:4196-1764617400-1764617400@verorrubio.com
SUMMARY:Brassica Trío
DESCRIPTION:Universidad Popular. MÚSICA GUIADA. Conciertos narrados
URL:https://verorrubio.com/event/brassica-trio/
LOCATION:Centro Municipal Integrado Pumarin Gijón Sur\, c/ Ramón Areces\, 7\, Gijón\, Asturias\, 33210\, Spain
ATTACH;FMTTYPE=image/jpeg:https://verorrubio.com/wp-content/uploads/2025/11/Tarjeton-Musica-Guiada_Portada_page-0001.jpg
END:VEVENT
END:VCALENDAR